BEGIN:VCALENDAR
VERSION:2.0
PRODID:Events Booking
BEGIN:VEVENT
UID:69e9d75594ed2
SUMMARY:XDRIgnite_BangkokThailand_26Jan26
DESCRIPTION:
LOCATION:Thailand
DTSTART:20270126T010000Z
DTEND:20270126T100000Z
DTSTAMP:20251217T195537Z
ORGANIZER;CN=Cisco Security Workshops:MAILTO:no-reply@ciscosecurityworkshop
 .com
GEO:13.752494;100.493509
X-APPLE-STRUCTURED-LOCATION;VALUE=URI;X-ADDRESS=Thailand;X-APPLE-RADIUS=72;
 X-TITLE=Bangkok:13.752494;100.493509
END:VEVENT
END:VCALENDAR