BEGIN:VCALENDAR
VERSION:2.0
PRODID:Events Booking
BEGIN:VEVENT
UID:69e823afa80f5
SUMMARY:XDRIgnite_Calgary_03Sep25
DESCRIPTION:
LOCATION:13 Ave SW\, Calgary\, T2R 0V4 Alberta\, Canada
DTSTART:20250903T120000Z
DTEND:20250904T000000Z
DTSTAMP:20250816T210342Z
ORGANIZER;CN=Cisco Security Workshops:MAILTO:no-reply@ciscosecurityworkshop
 .com
GEO:51.040679;-114.065933
X-APPLE-STRUCTURED-LOCATION;VALUE=URI;X-ADDRESS=13 Ave SW\, Calgary\, T2R 0
 V4 Alberta\, Canada;X-APPLE-RADIUS=72;X-TITLE=Cisco Office Calgary:51.0406
 79;-114.065933
END:VEVENT
END:VCALENDAR