BEGIN:VCALENDAR
VERSION:2.0
PRODID:Events Booking
BEGIN:VEVENT
UID:69e8603b0c3a2
SUMMARY:XDRIgnite_Chicago_09Sep25
DESCRIPTION:
LOCATION:433 W. Van Buren Street\, Ste 702 7th Floor Chicago\, Illinois 606
 07 United States
DTSTART:20250909T130000Z
DTEND:20250909T220000Z
DTSTAMP:20250814T214641Z
ORGANIZER;CN=Cisco Security Workshops:MAILTO:no-reply@ciscosecurityworkshop
 .com
END:VEVENT
END:VCALENDAR