BEGIN:VCALENDAR
VERSION:2.0
PRODID:Events Booking
BEGIN:VEVENT
UID:69e8937b72235
SUMMARY:XDRIgnite_Chicago_10Sep25
DESCRIPTION:
LOCATION:433 W. Van Buren Street\, Ste 702 7th Floor Chicago\, Illinois 606
 07 United States
DTSTART:20250910T130000Z
DTEND:20250910T220000Z
DTSTAMP:20250814T193024Z
ORGANIZER;CN=Cisco Security Workshops:MAILTO:no-reply@ciscosecurityworkshop
 .com
END:VEVENT
END:VCALENDAR