BEGIN:VCALENDAR
VERSION:2.0
PRODID:Events Booking
BEGIN:VEVENT
UID:69ea0ffa2cfb3
SUMMARY:XDRIgnite_DohaQatar_9Feb26
DESCRIPTION:
LOCATION:Qatar
DTSTART:20260209T050000Z
DTEND:20260209T200000Z
DTSTAMP:20260120T181405Z
ORGANIZER;CN=Cisco Security Workshops:MAILTO:no-reply@ciscosecurityworkshop
 .com
GEO:25.285633;51.526416
X-APPLE-STRUCTURED-LOCATION;VALUE=URI;X-ADDRESS=Qatar;X-APPLE-RADIUS=72;X-T
 ITLE=Doha:25.285633;51.526416
END:VEVENT
END:VCALENDAR