BEGIN:VCALENDAR
VERSION:2.0
PRODID:Events Booking
BEGIN:VEVENT
UID:69e9d45caeb17
SUMMARY:XDRIgnite_DubaiUAE_13Jan26
DESCRIPTION:
LOCATION:Dubai
DTSTART:20260113T080000Z
DTEND:20270113T170000Z
DTSTAMP:20251105T134959Z
ORGANIZER;CN=Cisco Security Workshops:MAILTO:no-reply@ciscosecurityworkshop
 .com
GEO:9999.999999;9999.999999
X-APPLE-STRUCTURED-LOCATION;VALUE=URI;X-ADDRESS=Dubai;X-APPLE-RADIUS=72;X-T
 ITLE=UAE:9999.999999;9999.999999
END:VEVENT
END:VCALENDAR