BEGIN:VCALENDAR
VERSION:2.0
PRODID:Events Booking
BEGIN:VEVENT
UID:69ea1332b8957
SUMMARY:XDRIgnite_DubaiUAE_27Jan26
DESCRIPTION:
LOCATION:Dubai\, United Arab Emirates
DTSTART:20260127T040000Z
DTEND:20260127T130000Z
DTSTAMP:20260108T144619Z
ORGANIZER;CN=Cisco Security Workshops:MAILTO:no-reply@ciscosecurityworkshop
 .com
GEO:25.229634;55.289585
X-APPLE-STRUCTURED-LOCATION;VALUE=URI;X-ADDRESS=Dubai\, United Arab Emirate
 s;X-APPLE-RADIUS=72;X-TITLE=Dubai:25.229634;55.289585
END:VEVENT
END:VCALENDAR