BEGIN:VCALENDAR
VERSION:2.0
PRODID:Events Booking
BEGIN:VEVENT
UID:69ea1375f0c7d
SUMMARY:XDRIgnite_DubaiUAE_04Nov25
DESCRIPTION:
LOCATION:Dubai
DTSTART:20251104T040000Z
DTEND:20251104T130000Z
DTSTAMP:20250915T192202Z
ORGANIZER;CN=Cisco Security Workshops:MAILTO:no-reply@ciscosecurityworkshop
 .com
GEO:9999.999999;9999.999999
X-APPLE-STRUCTURED-LOCATION;VALUE=URI;X-ADDRESS=Dubai;X-APPLE-RADIUS=72;X-T
 ITLE=UAE:9999.999999;9999.999999
END:VEVENT
END:VCALENDAR