BEGIN:VCALENDAR
VERSION:2.0
PRODID:Events Booking
BEGIN:VEVENT
UID:69ea13a02026f
SUMMARY:XDRIgnite_DusseldorfGermany_08Dec25
DESCRIPTION:
LOCATION:Germany
DTSTART:20251208T070000Z
DTEND:20251208T160000Z
DTSTAMP:20250915T200813Z
ORGANIZER;CN=Cisco Security Workshops:MAILTO:no-reply@ciscosecurityworkshop
 .com
GEO:51.163818;10.447831
X-APPLE-STRUCTURED-LOCATION;VALUE=URI;X-ADDRESS=Germany;X-APPLE-RADIUS=72;X
 -TITLE=Düsseldorf:51.163818;10.447831
END:VEVENT
END:VCALENDAR