BEGIN:VCALENDAR
VERSION:2.0
PRODID:Events Booking
BEGIN:VEVENT
UID:69ea128db6b80
SUMMARY:XDRIgnite_EMEADryRun-Virtual_13Nov26
DESCRIPTION:EMEA Security PVT - Amsterdam
  
LOCATION:Virtual
DTSTART:20251113T070000Z
DTEND:20251113T160000Z
DTSTAMP:20251105T163615Z
ORGANIZER;CN=Cisco Security Workshops:MAILTO:no-reply@ciscosecurityworkshop
 .com
GEO:25;-80.226529
X-APPLE-STRUCTURED-LOCATION;VALUE=URI;X-ADDRESS=Virtual;X-APPLE-RADIUS=72;X
 -TITLE=Virtual:25;-80.226529
END:VEVENT
END:VCALENDAR