BEGIN:VCALENDAR
VERSION:2.0
PRODID:Events Booking
BEGIN:VEVENT
UID:69ea13763e331
SUMMARY:XDRIgnite_GreeceAthens_28Jan26
DESCRIPTION:
LOCATION:Greece
DTSTART:20260128T060000Z
DTEND:20260128T150000Z
DTSTAMP:20260105T163252Z
ORGANIZER;CN=Cisco Security Workshops:MAILTO:no-reply@ciscosecurityworkshop
 .com
GEO:38.995368;21.987713
X-APPLE-STRUCTURED-LOCATION;VALUE=URI;X-ADDRESS=Greece;X-APPLE-RADIUS=72;X-
 TITLE=Athens\, Greece:38.995368;21.987713
END:VEVENT
END:VCALENDAR