BEGIN:VCALENDAR
VERSION:2.0
PRODID:Events Booking
BEGIN:VEVENT
UID:69ea12b0c4c0b
SUMMARY:XDRIgnite_HemelHempSteadUK_09Oct25
DESCRIPTION:
DTSTART:20251009T070000Z
DTEND:20251009T160000Z
DTSTAMP:20250915T183936Z
ORGANIZER;CN=Cisco Security Workshops:MAILTO:no-reply@ciscosecurityworkshop
 .com
END:VEVENT
END:VCALENDAR