BEGIN:VCALENDAR
VERSION:2.0
PRODID:Events Booking
BEGIN:VEVENT
UID:69ea157985496
SUMMARY:XDRIgnite_KualaLumpurMalaysia_24Nov25
DESCRIPTION:
LOCATION:Malaysia
DTSTART:20251124T000000Z
DTEND:20251124T090000Z
DTSTAMP:20251013T131551Z
ORGANIZER;CN=Cisco Security Workshops:MAILTO:no-reply@ciscosecurityworkshop
 .com
GEO:3.152659;101.702221
X-APPLE-STRUCTURED-LOCATION;VALUE=URI;X-ADDRESS=Malaysia;X-APPLE-RADIUS=72;
 X-TITLE=Kuala Lumpur:3.152659;101.702221
END:VEVENT
END:VCALENDAR