BEGIN:VCALENDAR
VERSION:2.0
PRODID:Events Booking
BEGIN:VEVENT
UID:69ea144b75a85
SUMMARY:XDRIgnite_LisbonPortugal_16Dec25
DESCRIPTION:
LOCATION:Portugal
DTSTART:20251216T080000Z
DTEND:20251216T170000Z
DTSTAMP:20250915T201900Z
ORGANIZER;CN=Cisco Security Workshops:MAILTO:no-reply@ciscosecurityworkshop
 .com
GEO:39.662165;-8.135352
X-APPLE-STRUCTURED-LOCATION;VALUE=URI;X-ADDRESS=Portugal;X-APPLE-RADIUS=72;
 X-TITLE=Lisbon\, Portugal:39.662165;-8.135352
END:VEVENT
END:VCALENDAR