BEGIN:VCALENDAR
VERSION:2.0
PRODID:Events Booking
BEGIN:VEVENT
UID:69ea14aa85b34
SUMMARY:XDRIgnite_LisbonPortugal_25Feb26
DESCRIPTION:
DTSTART:20260225T080000Z
DTEND:20260225T170000Z
DTSTAMP:20260212T152023Z
ORGANIZER;CN=Cisco Security Workshops:MAILTO:no-reply@ciscosecurityworkshop
 .com
END:VEVENT
END:VCALENDAR