BEGIN:VCALENDAR
VERSION:2.0
PRODID:Events Booking
BEGIN:VEVENT
UID:69ea1332913a7
SUMMARY:XDRIgnite_MadridSpain_15Dec
DESCRIPTION:
LOCATION:Community of Madrid\, Spain
DTSTART:20251215T070000Z
DTEND:20251215T160000Z
DTSTAMP:20251201T140000Z
ORGANIZER;CN=Cisco Security Workshops:MAILTO:no-reply@ciscosecurityworkshop
 .com
GEO:40.416705;-3.703583
X-APPLE-STRUCTURED-LOCATION;VALUE=URI;X-ADDRESS=Community of Madrid\, Spain
 ;X-APPLE-RADIUS=72;X-TITLE=Madrid\, Spain:40.416705;-3.703583
END:VEVENT
END:VCALENDAR