BEGIN:VCALENDAR
VERSION:2.0
PRODID:Events Booking
BEGIN:VEVENT
UID:69ea144b5c980
SUMMARY:XDRIgnite_MadridSpain_21Oct25
DESCRIPTION:
LOCATION:Community of Madrid\, Spain
DTSTART:20251021T060000Z
DTEND:20251021T150000Z
DTSTAMP:20250915T184912Z
ORGANIZER;CN=Cisco Security Workshops:MAILTO:no-reply@ciscosecurityworkshop
 .com
GEO:40.416705;-3.703583
X-APPLE-STRUCTURED-LOCATION;VALUE=URI;X-ADDRESS=Community of Madrid\, Spain
 ;X-APPLE-RADIUS=72;X-TITLE=Madrid\, Spain:40.416705;-3.703583
END:VEVENT
END:VCALENDAR