BEGIN:VCALENDAR
VERSION:2.0
PRODID:Events Booking
BEGIN:VEVENT
UID:69ea1579508d8
SUMMARY:XDRIgnite_MadridSpain_GVEInternal_24Nov25
DESCRIPTION:
LOCATION:Community of Madrid\, Spain
DTSTART:20251124T100001Z
DTEND:20251124T140000Z
DTSTAMP:20251121T142052Z
ORGANIZER;CN=Cisco Security Workshops:MAILTO:no-reply@ciscosecurityworkshop
 .com
GEO:40.416705;-3.703583
X-APPLE-STRUCTURED-LOCATION;VALUE=URI;X-ADDRESS=Community of Madrid\, Spain
 ;X-APPLE-RADIUS=72;X-TITLE=Madrid\, Spain:40.416705;-3.703583
END:VEVENT
END:VCALENDAR