BEGIN:VCALENDAR
VERSION:2.0
PRODID:Events Booking
BEGIN:VEVENT
UID:69ea128dac560
SUMMARY:XDRIgnite_ManilaPhilippines_23Oct26
DESCRIPTION:
LOCATION:Philippines
DTSTART:20251023T000000Z
DTEND:20251023T090000Z
DTSTAMP:20251013T131046Z
ORGANIZER;CN=Cisco Security Workshops:MAILTO:no-reply@ciscosecurityworkshop
 .com
GEO:14.573611;121.032971
X-APPLE-STRUCTURED-LOCATION;VALUE=URI;X-ADDRESS=Philippines;X-APPLE-RADIUS=
 72;X-TITLE=Metro Manila:14.573611;121.032971
END:VEVENT
END:VCALENDAR