BEGIN:VCALENDAR
VERSION:2.0
PRODID:Events Booking
BEGIN:VEVENT
UID:69ea14efa6030
SUMMARY:XDRIgnite_MilanItaly_14Jan26
DESCRIPTION:
LOCATION:Via San Vittore\, Milan\, 20123 Lombardy\, Italy
DTSTART:20260114T070000Z
DTEND:20260114T160000Z
DTSTAMP:20251028T143441Z
ORGANIZER;CN=Cisco Security Workshops:MAILTO:no-reply@ciscosecurityworkshop
 .com
GEO:45.462895;9.170646
X-APPLE-STRUCTURED-LOCATION;VALUE=URI;X-ADDRESS=Via San Vittore\, Milan\, 2
 0123 Lombardy\, Italy;X-APPLE-RADIUS=72;X-TITLE=Milan:45.462895;9.170646
END:VEVENT
END:VCALENDAR