BEGIN:VCALENDAR
VERSION:2.0
PRODID:Events Booking
BEGIN:VEVENT
UID:69ea144bcbb39
SUMMARY:XDRIgnite_Delhi_MumbaiIndia_19Jan26
DESCRIPTION:
LOCATION:Maharashtra\, India
DTSTART:20260119T023000Z
DTEND:20260119T113000Z
DTSTAMP:20251216T170843Z
ORGANIZER;CN=Cisco Security Workshops:MAILTO:no-reply@ciscosecurityworkshop
 .com
GEO:19.054999;72.869204
X-APPLE-STRUCTURED-LOCATION;VALUE=URI;X-ADDRESS=Maharashtra\, India;X-APPLE
 -RADIUS=72;X-TITLE=Mumbai\, India:19.054999;72.869204
END:VEVENT
END:VCALENDAR