BEGIN:VCALENDAR
VERSION:2.0
PRODID:Events Booking
BEGIN:VEVENT
UID:69ea152c5bbf8
SUMMARY:XDRIgnite_NetanyaIsrael_11Nov25
DESCRIPTION:
LOCATION:Center District\, Israel
DTSTART:20251111T060000Z
DTEND:20251111T150000Z
DTSTAMP:20250915T195034Z
ORGANIZER;CN=Cisco Security Workshops:MAILTO:no-reply@ciscosecurityworkshop
 .com
GEO:32.313722;34.866758
X-APPLE-STRUCTURED-LOCATION;VALUE=URI;X-ADDRESS=Center District\, Israel;X-
 APPLE-RADIUS=72;X-TITLE=Netanya\, Israel:32.313722;34.866758
END:VEVENT
END:VCALENDAR