BEGIN:VCALENDAR
VERSION:2.0
PRODID:Events Booking
BEGIN:VEVENT
UID:69e8236e2f8c0
SUMMARY:XDRIgnite_NYC_20Aug25
DESCRIPTION:
LOCATION:Pennsylvania Plaza\, New York\, 10119 New York\, United States
DTSTART:20250820T120000Z
DTEND:20250820T210000Z
DTSTAMP:20250813T143659Z
ORGANIZER;CN=Cisco Security Workshops:MAILTO:no-reply@ciscosecurityworkshop
 .com
GEO:40.751454;-73.992821
X-APPLE-STRUCTURED-LOCATION;VALUE=URI;X-ADDRESS=Pennsylvania Plaza\, New Yo
 rk\, 10119 New York\, United States;X-APPLE-RADIUS=72;X-TITLE=Cisco Office
  - NYC:40.751454;-73.992821
END:VEVENT
END:VCALENDAR