BEGIN:VCALENDAR
VERSION:2.0
PRODID:Events Booking
BEGIN:VEVENT
UID:69ea13a07f360
SUMMARY:XDRIgnite_OsloNorway_20Jan26
DESCRIPTION:
LOCATION:Oslo\, Norway
DTSTART:20260120T070000Z
DTEND:20260120T160000Z
DTSTAMP:20250915T203837Z
ORGANIZER;CN=Cisco Security Workshops:MAILTO:no-reply@ciscosecurityworkshop
 .com
GEO:59.972397;10.775729
X-APPLE-STRUCTURED-LOCATION;VALUE=URI;X-ADDRESS=Oslo\, Norway;X-APPLE-RADIU
 S=72;X-TITLE=Oslo\, Norway:59.972397;10.775729
END:VEVENT
END:VCALENDAR