BEGIN:VCALENDAR
VERSION:2.0
PRODID:Events Booking
BEGIN:VEVENT
UID:69ea144ba2607
SUMMARY:XDRIgnite_ParisFrance_01Dec25
DESCRIPTION:
LOCATION:Rue Washington\, Paris\, 75008 Ile-de-France\, France
DTSTART:20251201T080000Z
DTEND:20251201T170000Z
DTSTAMP:20251105T133727Z
ORGANIZER;CN=Cisco Security Workshops:MAILTO:no-reply@ciscosecurityworkshop
 .com
GEO:48.872954;2.302832
X-APPLE-STRUCTURED-LOCATION;VALUE=URI;X-ADDRESS=Rue Washington\, Paris\, 75
 008 Ile-de-France\, France;X-APPLE-RADIUS=72;X-TITLE=Paris\, France:48.872
 954;2.302832
END:VEVENT
END:VCALENDAR