BEGIN:VCALENDAR
VERSION:2.0
PRODID:Events Booking
BEGIN:VEVENT
UID:69e822e784fff
SUMMARY:XDRIgnite_Phoenix_13Aug25
DESCRIPTION:
LOCATION:410 E Rivulon Blvd Suite 201 Gilbert\, AZ 85297
DTSTART:20250813T150000Z
DTEND:20250814T000000Z
DTSTAMP:20250728T153147Z
ORGANIZER;CN=Cisco Security Workshops:MAILTO:no-reply@ciscosecurityworkshop
 .com
GEO:33.290408;-111.780707
X-APPLE-STRUCTURED-LOCATION;VALUE=URI;X-ADDRESS=410 E Rivulon Blvd Suite 20
 1 Gilbert\, AZ 85297;X-APPLE-RADIUS=72;X-TITLE=TD/Synnex Cyber Range:33.29
 0408;-111.780707
END:VEVENT
END:VCALENDAR