BEGIN:VCALENDAR
VERSION:2.0
PRODID:Events Booking
BEGIN:VEVENT
UID:69ea1375e6b4e
SUMMARY:XDRIgnite_Presidio_11-12Dec
DESCRIPTION:
LOCATION:Virtual
DTSTART:20251211T080000Z
DTEND:20251211T170000Z
DTSTAMP:20251208T153315Z
ORGANIZER;CN=Cisco Security Workshops:MAILTO:no-reply@ciscosecurityworkshop
 .com
GEO:25;-80.226529
X-APPLE-STRUCTURED-LOCATION;VALUE=URI;X-ADDRESS=Virtual;X-APPLE-RADIUS=72;X
 -TITLE=Virtual:25;-80.226529
END:VEVENT
END:VCALENDAR