BEGIN:VCALENDAR
VERSION:2.0
PRODID:Events Booking
BEGIN:VEVENT
UID:69ea133327a0e
SUMMARY:XDRIgnite_ReadingUK_10Nov25
DESCRIPTION:
LOCATION:England\, United Kingdom
DTSTART:20251110T080000Z
DTEND:20251110T170000Z
DTSTAMP:20250915T194015Z
ORGANIZER;CN=Cisco Security Workshops:MAILTO:no-reply@ciscosecurityworkshop
 .com
GEO:51.456424;-0.970066
X-APPLE-STRUCTURED-LOCATION;VALUE=URI;X-ADDRESS=England\, United Kingdom;X-
 APPLE-RADIUS=72;X-TITLE=Reading\, UK:51.456424;-0.970066
END:VEVENT
END:VCALENDAR