BEGIN:VCALENDAR
VERSION:2.0
PRODID:Events Booking
BEGIN:VEVENT
UID:69e823164ed96
SUMMARY:XDRIgnite_Toronto_01Oct25 
DESCRIPTION:
LOCATION:88 Queens Quay West\, Toronto\, M5J 2J2 Ontario\, Canada
DTSTART:20251001T090000Z
DTEND:20251001T220000Z
DTSTAMP:20250816T210934Z
ORGANIZER;CN=Cisco Security Workshops:MAILTO:no-reply@ciscosecurityworkshop
 .com
GEO:43.640948;-79.378169
X-APPLE-STRUCTURED-LOCATION;VALUE=URI;X-ADDRESS=88 Queens Quay West\, Toron
 to\, M5J 2J2 Ontario\, Canada;X-APPLE-RADIUS=72;X-TITLE=Toronto Office :43
 .640948;-79.378169
END:VEVENT
END:VCALENDAR