BEGIN:VCALENDAR
VERSION:2.0
PRODID:Events Booking
BEGIN:VEVENT
UID:69e824b2b8c92
SUMMARY:XDRIgnite_Vancouver_16Sept2025
DESCRIPTION:
LOCATION:595 Burrard Street\, Vancouver\, V7X 1L4 British Columbia\, Canada
DTSTART:20250916T190000Z
DTEND:20250917T064500Z
DTSTAMP:20250819T145546Z
ORGANIZER;CN=Cisco Security Workshops:MAILTO:no-reply@ciscosecurityworkshop
 .com
GEO:49.28612;-123.119792
X-APPLE-STRUCTURED-LOCATION;VALUE=URI;X-ADDRESS=595 Burrard Street\, Vancou
 ver\, V7X 1L4 British Columbia\, Canada;X-APPLE-RADIUS=72;X-TITLE=Cisco Of
 fice Vancouver:49.28612;-123.119792
END:VEVENT
END:VCALENDAR