BEGIN:VCALENDAR
VERSION:2.0
PRODID:Events Booking
BEGIN:VEVENT
UID:69ea122b93b6b
SUMMARY:XDRIgnite_ViennaAustria_03Dec25
DESCRIPTION:
LOCATION:Austria
DTSTART:20251203T070000Z
DTEND:20251203T160000Z
DTSTAMP:20250915T210151Z
ORGANIZER;CN=Cisco Security Workshops:MAILTO:no-reply@ciscosecurityworkshop
 .com
GEO:48.208354;16.372504
X-APPLE-STRUCTURED-LOCATION;VALUE=URI;X-ADDRESS=Austria;X-APPLE-RADIUS=72;X
 -TITLE=Vienna\, Austria:48.208354;16.372504
END:VEVENT
END:VCALENDAR