BEGIN:VCALENDAR
VERSION:2.0
PRODID:Events Booking
BEGIN:VEVENT
UID:69ea133314186
SUMMARY:XDRIgnite_VirtualPresidio_19+20Feb26
DESCRIPTION:
LOCATION:Virtual
DTSTART:20260219T130000Z
DTEND:20260219T220000Z
DTSTAMP:20260211T144913Z
ORGANIZER;CN=Cisco Security Workshops:MAILTO:no-reply@ciscosecurityworkshop
 .com
GEO:25;-80.226529
X-APPLE-STRUCTURED-LOCATION;VALUE=URI;X-ADDRESS=Virtual;X-APPLE-RADIUS=72;X
 -TITLE=Virtual:25;-80.226529
END:VEVENT
END:VCALENDAR