BEGIN:VCALENDAR
VERSION:2.0
PRODID:Events Booking
BEGIN:VEVENT
UID:69ea139fd63c4
SUMMARY:XDRIgnite_WarsawPoland_18Feb26
DESCRIPTION:
LOCATION:Poland
DTSTART:20260218T070000Z
DTEND:20260218T160000Z
DTSTAMP:20260212T153918Z
ORGANIZER;CN=Cisco Security Workshops:MAILTO:no-reply@ciscosecurityworkshop
 .com
GEO:52.215933;19.134422
X-APPLE-STRUCTURED-LOCATION;VALUE=URI;X-ADDRESS=Poland;X-APPLE-RADIUS=72;X-
 TITLE=Warsaw\, Poland:52.215933;19.134422
END:VEVENT
END:VCALENDAR