BEGIN:VCALENDAR
VERSION:2.0
PRODID:Events Booking
BEGIN:VEVENT
UID:69ea152d48ee6
SUMMARY:XDRIgnite_WarsawPoland_18Nov25
DESCRIPTION:
LOCATION:Domaniewska\, Warsaw\, 02-672 Masovian Voivodeship\, Poland
DTSTART:20251118T070000Z
DTEND:20251118T160000Z
DTSTAMP:20250915T195614Z
ORGANIZER;CN=Cisco Security Workshops:MAILTO:no-reply@ciscosecurityworkshop
 .com
GEO:52.182255;21.005144
X-APPLE-STRUCTURED-LOCATION;VALUE=URI;X-ADDRESS=Domaniewska\, Warsaw\, 02-6
 72 Masovian Voivodeship\, Poland;X-APPLE-RADIUS=72;X-TITLE=Warsaw\, Poland
 :52.182255;21.005144
END:VEVENT
END:VCALENDAR