BEGIN:VCALENDAR
VERSION:2.0
PRODID:Events Booking
BEGIN:VEVENT
UID:69ea152dc74ff
SUMMARY:XDRIgnite_ZurichSwitzerland_17Dec25
DESCRIPTION:
LOCATION:Zurich\, Switzerland
DTSTART:20251217T070000Z
DTEND:20251217T160000Z
DTSTAMP:20250915T202227Z
ORGANIZER;CN=Cisco Security Workshops:MAILTO:no-reply@ciscosecurityworkshop
 .com
GEO:47.374449;8.541042
X-APPLE-STRUCTURED-LOCATION;VALUE=URI;X-ADDRESS=Zurich\, Switzerland;X-APPL
 E-RADIUS=72;X-TITLE=Zurich\, Switzerland:47.374449;8.541042
END:VEVENT
END:VCALENDAR