BEGIN:VCALENDAR
VERSION:2.0
PRODID:Events Booking
BEGIN:VEVENT
UID:69ea157a947ef
SUMMARY:XDRIgnite_ZurichSwitzerland_20Jan26
DESCRIPTION:
LOCATION:Zurich\, Switzerland
DTSTART:20260120T070000Z
DTEND:20260120T160000Z
DTSTAMP:20251028T142118Z
ORGANIZER;CN=Cisco Security Workshops:MAILTO:no-reply@ciscosecurityworkshop
 .com
GEO:47.374449;8.541042
X-APPLE-STRUCTURED-LOCATION;VALUE=URI;X-ADDRESS=Zurich\, Switzerland;X-APPL
 E-RADIUS=72;X-TITLE=Zurich\, Switzerland:47.374449;8.541042
END:VEVENT
END:VCALENDAR